BEGIN:VCALENDAR
VERSION:2.0
PRODID:-//5.44.111.129//NONSGML kigkonsult.se iCalcreator 2.20//
CALSCALE:GREGORIAN
METHOD:PUBLISH
X-WR-TIMEZONE:Europe/Berlin
BEGIN:VEVENT
UID:event40@Regionale Schule Ehm Welk Ueckermünde
DTSTAMP:20260423T085609Z
CATEGORIES:Schulferien
DESCRIPTION:Osterferien\nKategorie: Schulferien\nICS-Link: https://regional
 eschule-ueckermuende.de/index.php?option=com_jem&view=event&id=40:osterfer
 ien\n
DTSTART;VALUE=DATE:20260330
DTEND;VALUE=DATE:20260409
SUMMARY:Osterferien
URL:https://regionaleschule-ueckermuende.de/index.php?option=com_jem&view=e
 vent&id=40:osterferien
END:VEVENT
END:VCALENDAR