BEGIN:VCALENDAR
VERSION:2.0
PRODID:-//5.44.111.129//NONSGML kigkonsult.se iCalcreator 2.20//
CALSCALE:GREGORIAN
METHOD:PUBLISH
X-WR-TIMEZONE:Europe/Berlin
BEGIN:VEVENT
UID:event31@Regionale Schule Ehm Welk Ueckermünde
DTSTAMP:20260420T090655Z
CATEGORIES:Schuljahresplan
DESCRIPTION:Notenschluss\nKategorie: Schuljahresplan\nICS-Link: https://reg
 ionaleschule-ueckermuende.de/index.php?option=com_jem&view=event&id=31:not
 enschluss\n
DTSTART;VALUE=DATE:20260121
DTEND;VALUE=DATE:20260122
SUMMARY:Notenschluss
URL:https://regionaleschule-ueckermuende.de/index.php?option=com_jem&view=e
 vent&id=31:notenschluss
END:VEVENT
END:VCALENDAR