BEGIN:VCALENDAR
VERSION:2.0
PRODID:-//5.44.111.129//NONSGML kigkonsult.se iCalcreator 2.20//
CALSCALE:GREGORIAN
METHOD:PUBLISH
X-WR-TIMEZONE:Europe/Berlin
BEGIN:VEVENT
UID:event13@Regionale Schule Ehm Welk Ueckermünde
DTSTAMP:20260420T090224Z
CATEGORIES:Schuljahresplan
DESCRIPTION:Zeugnisausgabe Klassen 5 bis 9\nKategorie: Schuljahresplan\nICS
 -Link: https://regionaleschule-ueckermuende.de/index.php?option=com_jem&vi
 ew=event&id=13:zeugnisausgabe-klassen-5-bis-9\n
DTSTART;TZID=Europe/Berlin:20250725T073000
DTEND;TZID=Europe/Berlin:20250725T092500
SUMMARY:Zeugnisausgabe Klassen 5 bis 9
URL:https://regionaleschule-ueckermuende.de/index.php?option=com_jem&view=e
 vent&id=13:zeugnisausgabe-klassen-5-bis-9
END:VEVENT
END:VCALENDAR